BEGIN:VCALENDAR
VERSION:2.0
PRODID:DPCALENDAR
CALSCALE:GREGORIAN
BEGIN:VTIMEZONE
TZID:Europe/Berlin
X-MICROSOFT-CDO-TZID:4
BEGIN:STANDARD
DTSTART:20251026T010000
TZOFFSETFROM:+0200
TZOFFSETTO:+0100
TZNAME:CET
END:STANDARD
BEGIN:STANDARD
DTSTART:20261025T010000
TZOFFSETFROM:+0200
TZOFFSETTO:+0100
TZNAME:CET
END:STANDARD
BEGIN:DAYLIGHT
DTSTART:20260329T010000
TZOFFSETFROM:+0100
TZOFFSETTO:+0200
TZNAME:CEST
END:DAYLIGHT
END:VTIMEZONE
X-WR-TIMEZONE:Europe/Berlin
BEGIN:VEVENT
DTSTART;TZID=Europe/Berlin:20240526T130000
DTEND;TZID=Europe/Berlin:20240526T180000
UID:42F5692F-8033-4D54-A0D6-430F624F544E
SUMMARY:Schützenfest in Drenke
CREATED:20240525T145005Z
DTSTAMP:20240525T145005Z
URL:http://schuetzenverein-amelunxen.de/index.php/kalender/schuetzenfest-in-drenke
DESCRIPTION:Teilnahme am Schützenfest in Drenke. Treffen am Vereinslokal Kirchhoff. 12.30-13.00 Uhr
X-ALT-DESC;FMTTYPE=text/html:<p>Teilnahme am Schützenfest in Drenke. Treffen am Vereinslokal Kirchhoff. 12.30-13.00 Uhr</p>
X-ACCESS:1
X-HITS:0
X-COLOR:3ab312
X-SHOW-END-TIME:1
END:VEVENT
BEGIN:VEVENT
DTSTART;TZID=Europe/Berlin:20240630T100000
DTEND;TZID=Europe/Berlin:20240630T123000
UID:FFD6AF38-3B7C-47D2-8755-02E5C97B021B
SUMMARY:Patronatsfest St. Peter und Paul
CREATED:20231231T131759Z
DTSTAMP:20231231T131759Z
URL:http://schuetzenverein-amelunxen.de/index.php/kalender/patronatsfest-st-peter-und-paul
DESCRIPTION:Begleitung 
X-ALT-DESC;FMTTYPE=text/html:<p>Begleitung </p>
X-ACCESS:1
X-HITS:0
X-COLOR:f0e627
X-SHOW-END-TIME:1
END:VEVENT
BEGIN:VEVENT
DTSTART;TZID=Europe/Berlin:20240713T140000
DTEND;TZID=Europe/Berlin:20240713T233000
UID:BF046954-49D2-4018-AD3D-FF67F094FFED
SUMMARY:Sommerfest am Schießstand Twerberg
CREATED:20230219T154026Z
DTSTAMP:20230219T154026Z
URL:http://schuetzenverein-amelunxen.de/index.php/kalender/sommerfest
LAST-MODIFIED:20231230T183703Z
SEQUENCE:27140197
X-ACCESS:1
X-HITS:0
X-COLOR:009933
X-SHOW-END-TIME:1
END:VEVENT
BEGIN:VEVENT
DTSTART;TZID=Europe/Berlin:20240916T170000
DTEND;TZID=Europe/Berlin:20240916T200000
UID:6EB754E6-5882-4B9F-A7D4-64F56329FCC2
SUMMARY:Blutspenden in Amelunxen
CREATED:20230326T103848Z
DTSTAMP:20230326T103848Z
URL:http://schuetzenverein-amelunxen.de/index.php/kalender/blutspenden-in-amelunxen-2
DESCRIPTION:Blutspenden in der Alten Dorfschule.
X-ALT-DESC;FMTTYPE=text/html:<p>Blutspenden in der Alten Dorfschule.</p>
LAST-MODIFIED:20231230T185136Z
SEQUENCE:24135168
X-ACCESS:1
X-HITS:0
X-COLOR:f00909
X-SHOW-END-TIME:1
END:VEVENT
BEGIN:VEVENT
DTSTART;TZID=Europe/Berlin:20240921T150000
DTEND;TZID=Europe/Berlin:20240921T230000
UID:00C46DEF-9ECD-4DB9-A920-FEC1A91443CA
SUMMARY:Volksbankpokalschießen
CREATED:20230326T104617Z
DTSTAMP:20230326T104617Z
URL:http://schuetzenverein-amelunxen.de/index.php/kalender/volksbankpokalschiessen
DESCRIPTION:Volksbankpokalschießen für alle.
X-ALT-DESC;FMTTYPE=text/html:<p>Volksbankpokalschießen für alle.</p>
LAST-MODIFIED:20231230T185107Z
SEQUENCE:24134690
X-ACCESS:1
X-HITS:0
X-COLOR:2b68ed
X-SHOW-END-TIME:1
END:VEVENT
BEGIN:VEVENT
DTSTART;TZID=Europe/Berlin:20241120T190000
DTEND;TZID=Europe/Berlin:20241120T210000
UID:D1DB9D5F-CADB-4A33-B70B-DDE96C2217C3
SUMMARY:<b>Terminabsprache aller Amelunxer Vereine</b>
CREATED:20231112T074102Z
DTSTAMP:20231112T074102Z
URL:http://schuetzenverein-amelunxen.de/index.php/kalender/terminabsprache-aller-amelunxer-vereine
DESCRIPTION:Gasthaus Kirchhoff
X-ALT-DESC;FMTTYPE=text/html:<p>Gasthaus Kirchhoff</p>
LAST-MODIFIED:20231230T183919Z
SEQUENCE:4186697
X-ACCESS:1
X-HITS:0
X-COLOR:415d2a
X-SHOW-END-TIME:1
END:VEVENT
BEGIN:VEVENT
DTSTART;TZID=Europe/Berlin:20241121T120000
DTEND;TZID=Europe/Berlin:20241121T130000
UID:C9C08B23-6DC2-4EE7-88A6-965A32AE9DA2
SUMMARY:Eröffnung Tante Enso Laden
CREATED:20241027T181740Z
DTSTAMP:20241027T181740Z
URL:http://schuetzenverein-amelunxen.de/index.php/kalender/eroeffnung-tante-enso-laden
DESCRIPTION:Amalunstraße 5
X-ALT-DESC;FMTTYPE=text/html:<p>Amalunstraße 5</p>
X-ACCESS:1
X-HITS:0
X-COLOR:009933
X-SHOW-END-TIME:1
END:VEVENT
BEGIN:VEVENT
DTSTART;TZID=Europe/Berlin:20241216T170000
DTEND;TZID=Europe/Berlin:20241216T200000
UID:FAAC2549-EC0C-473A-A3E7-08CD8293D544
SUMMARY:<b>Blutspenden in Amelunxen</b>
CREATED:20230326T104314Z
DTSTAMP:20230326T104314Z
URL:http://schuetzenverein-amelunxen.de/index.php/kalender/blutspenden-in-amelunxen-3
DESCRIPTION:Blutspenden in Amelunxen in der Alten Dorfschule.
X-ALT-DESC;FMTTYPE=text/html:<p>Blutspenden in Amelunxen in der Alten Dorfschule.</p>
LAST-MODIFIED:20231230T185156Z
SEQUENCE:24134922
X-ACCESS:1
X-HITS:0
X-COLOR:f0082a
X-SHOW-END-TIME:1
END:VEVENT
BEGIN:VEVENT
DTSTART;TZID=Europe/Berlin:20250517T130000
DTEND;TZID=Europe/Berlin:20250517T190000
UID:A277AB78-F99D-4055-AA0D-2405C4A40BBF
SUMMARY:Königschießen
CREATED:20241225T104758Z
DTSTAMP:20241225T104758Z
URL:http://schuetzenverein-amelunxen.de/index.php/kalender/koenigschiessen
DESCRIPTION:Königschießen
X-ALT-DESC;FMTTYPE=text/html:<p>Königschießen</p>
LAST-MODIFIED:20241225T104831Z
SEQUENCE:33
X-ACCESS:1
X-HITS:0
X-COLOR:1cfa03
X-SHOW-END-TIME:1
END:VEVENT
BEGIN:VEVENT
DTSTART;TZID=Europe/Berlin:20250526T100000
DTEND;TZID=Europe/Berlin:20250526T123000
UID:8B41EE1A-6573-4D61-A966-B0E41E56B435
SUMMARY:Kinderkönig ermitteln im Kindergarten
CREATED:20250518T144656Z
DTSTAMP:20250518T144656Z
URL:http://schuetzenverein-amelunxen.de/index.php/kalender/kinderkoenig-ermitteln-im-kindergarten
DESCRIPTION:Dosenwerfen
X-ALT-DESC;FMTTYPE=text/html:<p>Dosenwerfen</p>
LAST-MODIFIED:20250518T144733Z
SEQUENCE:37
X-ACCESS:1
X-HITS:0
X-COLOR:009933
X-SHOW-END-TIME:1
END:VEVENT
BEGIN:VEVENT
DTSTART;TZID=Europe/Berlin:20250613T170000
DTEND;TZID=Europe/Berlin:20250615T220000
UID:38119413-97A1-45AF-A237-9789257CB08F
SUMMARY:Schützenfest in Amelunxen
CREATED:20241225T104946Z
DTSTAMP:20241225T104946Z
URL:http://schuetzenverein-amelunxen.de/index.php/kalender/schuetzenfest-in-amelunxen
LAST-MODIFIED:20250316T105156Z
SEQUENCE:6998530
X-ACCESS:1
X-HITS:0
X-COLOR:2afa00
X-SHOW-END-TIME:1
END:VEVENT
BEGIN:VEVENT
DTSTART;TZID=Europe/Berlin:20250623T170000
DTEND;TZID=Europe/Berlin:20250623T200000
UID:B4A30D93-7439-4C88-B66B-08816BA33805
SUMMARY:Blutspenden in Amelunxen
CREATED:20230326T072047Z
DTSTAMP:20230326T072047Z
URL:http://schuetzenverein-amelunxen.de/index.php/kalender/blutspenden
DESCRIPTION:In der Alten Dorfschule
X-ALT-DESC;FMTTYPE=text/html:<p>In der Alten Dorfschule</p>
LAST-MODIFIED:20250518T145615Z
SEQUENCE:67764928
X-ACCESS:1
X-HITS:60
X-COLOR:f00909
X-SHOW-END-TIME:1
END:VEVENT
BEGIN:VEVENT
DTSTART;TZID=Europe/Berlin:20250713T130000
DTEND;TZID=Europe/Berlin:20250713T200000
UID:D32F080C-4608-4B7D-B7D0-6198BA0B8316
SUMMARY:Stadtschützenfest in Beverungen 2025
CREATED:20250518T144914Z
DTSTAMP:20250518T144914Z
URL:http://schuetzenverein-amelunxen.de/index.php/kalender/stadtschuetzenfest-in-beverungen-2025
X-ACCESS:1
X-HITS:0
X-COLOR:009933
X-SHOW-END-TIME:1
END:VEVENT
BEGIN:VEVENT
DTSTART;TZID=Europe/Berlin:20250922T170000
DTEND;TZID=Europe/Berlin:20250922T200000
UID:7024AD25-F297-4ECF-A731-13C2B7938E3D
SUMMARY:Blutspende - Alte Dorfschule
CREATED:20250518T145324Z
DTSTAMP:20250518T145324Z
URL:http://schuetzenverein-amelunxen.de/index.php/kalender/blutspenden-in-der-alten-dorfschule-2
LAST-MODIFIED:20250915T174240Z
SEQUENCE:10378156
X-ACCESS:1
X-HITS:0
X-COLOR:009933
X-SHOW-END-TIME:1
END:VEVENT
BEGIN:VEVENT
DTSTART;TZID=Europe/Berlin:20251116T170000
DTEND;TZID=Europe/Berlin:20251116T180000
UID:27EA7551-0F9E-477B-83CE-426F5970BF10
SUMMARY:Volkstrauertag am Ehrenmal
CREATED:20251110T162749Z
DTSTAMP:20251110T162749Z
URL:http://schuetzenverein-amelunxen.de/index.php/kalender/volkstrauertag-am-ehrenmal
LAST-MODIFIED:20251110T162749Z
SEQUENCE:0
X-ACCESS:1
X-HITS:0
X-COLOR:009933
X-SHOW-END-TIME:1
END:VEVENT
BEGIN:VEVENT
DTSTART;TZID=Europe/Berlin:20260117T100000
DTEND;TZID=Europe/Berlin:20260117T130000
UID:2B8DCEE3-7591-41E3-B42C-0EFBC1D06E2D
SUMMARY:Einsammeln der Weihnachtsbäume
CREATED:20230106T110455Z
DTSTAMP:20230106T110455Z
URL:http://schuetzenverein-amelunxen.de/index.php/kalender/einsammeln-der-weihnachtsbaeume
DESCRIPTION:Einsammeln der ausgedienten Weihnachtsbäume. Gerne gegen eine Spende.
X-ALT-DESC;FMTTYPE=text/html:<p>Einsammeln der ausgedienten Weihnachtsbäume. Gerne gegen eine Spende.</p>
LAST-MODIFIED:20251223T085828Z
SEQUENCE:93477213
X-ACCESS:1
X-HITS:0
X-COLOR:009933
X-SHOW-END-TIME:1
END:VEVENT
BEGIN:VEVENT
DTSTART;TZID=Europe/Berlin:20260321T200000
DTEND;TZID=Europe/Berlin:20260321T230000
UID:8ADF08C8-03AA-4E71-A36B-16A108A323D8
SUMMARY:Jahreshauptversammlung
CREATED:20231205T091519Z
DTSTAMP:20231205T091519Z
URL:http://schuetzenverein-amelunxen.de/index.php/kalender/testeinladung
DESCRIPTION:Im Gasthaus Kirchhoff
X-ALT-DESC;FMTTYPE=text/html:<p>Im Gasthaus Kirchhoff</p>
LAST-MODIFIED:20251223T085848Z
SEQUENCE:64712609
LOCATION:Drenker Straße\, 37688 Beverungen\, Nordrhein-Westfalen\, Deutschland
GEO:51.69973885;9.33675205
X-LOCATION-DISPLAYNAME:Deutschland, Nordrhein-Westfalen, Kreis Höxter, Beverungen, 37688, Drenker Straße
X-ACCESS:1
X-HITS:13
X-COLOR:02822c
X-SHOW-END-TIME:1
END:VEVENT
BEGIN:VEVENT
DTSTART;TZID=Europe/Berlin:20260323T170000
DTEND;TZID=Europe/Berlin:20260323T200000
UID:F8944461-6C13-493F-9989-90357490E194
SUMMARY:Blutspenden in der Alten Dorfschule
CREATED:20231230T184259Z
DTSTAMP:20231230T184259Z
URL:http://schuetzenverein-amelunxen.de/index.php/kalender/blutspenden-in-der-alten-dorfschule
LAST-MODIFIED:20251223T085925Z
SEQUENCE:62518586
X-ACCESS:1
X-HITS:0
X-COLOR:eb1111
X-SHOW-END-TIME:1
END:VEVENT
BEGIN:VEVENT
DTSTART;TZID=Europe/Berlin:20260404T090000
DTEND;TZID=Europe/Berlin:20260404T140000
UID:E9259847-0E89-4384-BE71-658CC79B0F2E
SUMMARY:Osterfeueraufbau
CREATED:20250316T094333Z
DTSTAMP:20250316T094333Z
URL:http://schuetzenverein-amelunxen.de/index.php/kalender/osterfeueraufbau
LAST-MODIFIED:20260224T163441Z
SEQUENCE:29832668
X-ACCESS:1
X-HITS:0
X-COLOR:009933
X-SHOW-END-TIME:1
X-PUBLISH-UP:2025-03-16 10:55:00
END:VEVENT
BEGIN:VEVENT
DTSTART;TZID=Europe/Berlin:20260405T170000
DTEND;TZID=Europe/Berlin:20260405T200000
UID:AEAAC983-B77E-437D-BCF9-544633624522
SUMMARY:Ostereierschießen
CREATED:20231231T131549Z
DTSTAMP:20231231T131549Z
URL:http://schuetzenverein-amelunxen.de/index.php/kalender/ostereierschiessen
LAST-MODIFIED:20260324T160917Z
SEQUENCE:70340008
X-ACCESS:1
X-HITS:0
X-COLOR:20eb15
X-SHOW-END-TIME:1
END:VEVENT
BEGIN:VEVENT
DTSTART;TZID=Europe/Berlin:20260405T183000
DTEND;TZID=Europe/Berlin:20260405T233000
UID:CB0A6475-E99F-4C26-884D-45690DBD5275
SUMMARY:Osterfeuer 
CREATED:20230219T154438Z
DTSTAMP:20230219T154438Z
URL:http://schuetzenverein-amelunxen.de/index.php/kalender/osterfeuer
DESCRIPTION:20.30 Uhr Anzünden des Osterfeuers
X-ALT-DESC;FMTTYPE=text/html:<p>20.30 Uhr Anzünden des Osterfeuers</p>
LAST-MODIFIED:20260224T163516Z
SEQUENCE:95129438
X-ACCESS:1
X-HITS:0
X-COLOR:009933
X-SHOW-END-TIME:1
END:VEVENT
BEGIN:VEVENT
DTSTART;TZID=Europe/Berlin:20260919T150000
DTEND;TZID=Europe/Berlin:20260919T210000
UID:5A4429B3-4E9F-4CA7-932F-A7358049BB6B
SUMMARY:Volksbankpokalschießen 2026
CREATED:20250518T145231Z
DTSTAMP:20250518T145231Z
URL:http://schuetzenverein-amelunxen.de/index.php/kalender/volksbankpokalschiessen-2
LAST-MODIFIED:20260324T165828Z
SEQUENCE:26791557
X-ACCESS:1
X-HITS:0
X-COLOR:009933
X-SHOW-END-TIME:1
END:VEVENT
BEGIN:VEVENT
DTSTART;TZID=Europe/Berlin:20261002T190000
DTEND;TZID=Europe/Berlin:20261002T193000
UID:94EE0C8E-1ABE-4740-9A27-3452652411C4
SUMMARY:Oktoberfest
CREATED:20231231T131930Z
DTSTAMP:20231231T131930Z
URL:http://schuetzenverein-amelunxen.de/index.php/kalender/oktoberfest
LAST-MODIFIED:20260324T170039Z
SEQUENCE:70342869
X-ACCESS:1
X-HITS:0
X-COLOR:009933
X-SHOW-END-TIME:1
END:VEVENT
BEGIN:VEVENT
DTSTART;TZID=Europe/Berlin:20261107T140000
DTEND;TZID=Europe/Berlin:20261107T233000
UID:A1049A18-F53E-4B82-9496-E93689444726
SUMMARY:Abschlussschießen
CREATED:20230326T145937Z
DTSTAMP:20230326T145937Z
URL:http://schuetzenverein-amelunxen.de/index.php/kalender/abschlussschiessen
LAST-MODIFIED:20260324T170113Z
SEQUENCE:94528896
X-ACCESS:1
X-HITS:0
X-COLOR:415d2a
X-SHOW-END-TIME:1
END:VEVENT
END:VCALENDAR